BEGIN:VCALENDAR
VERSION:2.0
PRODID:-//www.fbcbenson.org//NONSGML kigkonsult.se iCalcreator 2.39.1//
CALSCALE:GREGORIAN
METHOD:PUBLISH
UID:a69e44fa-15cd-4728-afe6-ab6914538895
X-WR-CALNAME:www.fbcbenson.org
X-WR-CALDESC:www.fbcbenson.org
X-WR-TIMEZONE:America/Los_Angeles
X-LIC-LOCATION:America/Los_Angeles
BEGIN:VEVENT
UID:06a290d8-4a15-462a-a752-297b4c9df126
DTSTAMP:20260420T094910Z
CLASS:PUBLIC
DTSTART;TZID=America/Los_Angeles:20240923T090000
DTEND;TZID=America/Los_Angeles:20240923T110000
SUMMARY:Friendship Club
TRANSP:OPAQUE
BEGIN:VALARM
ACTION:DISPLAY
DESCRIPTION:Friendship Club
TRIGGER:-PT15M
END:VALARM
END:VEVENT
END:VCALENDAR
