BEGIN:VCALENDAR
VERSION:2.0
PRODID:-//www.fbcbenson.org//NONSGML kigkonsult.se iCalcreator 2.39.1//
CALSCALE:GREGORIAN
METHOD:PUBLISH
UID:5fef2783-0cf9-4734-bc18-0f5f1dec0b28
X-WR-CALNAME:www.fbcbenson.org
X-WR-CALDESC:www.fbcbenson.org
X-WR-TIMEZONE:America/Los_Angeles
X-LIC-LOCATION:America/Los_Angeles
BEGIN:VEVENT
UID:f113d8d9-ee43-4c7e-bcb3-dc0d52812612
DTSTAMP:20260422T100945Z
CLASS:PUBLIC
DTSTART;TZID=America/Los_Angeles:20260423T183000
DTEND;TZID=America/Los_Angeles:20260423T203000
SUMMARY:Adult Lifegroup
TRANSP:OPAQUE
BEGIN:VALARM
ACTION:DISPLAY
DESCRIPTION:Adult Lifegroup
TRIGGER:-PT15M
END:VALARM
END:VEVENT
END:VCALENDAR
